BEGIN:VCALENDAR
VERSION:2.0
PRODID:-//BC Forestry Outreach Center - ECPv6.15.20//NONSGML v1.0//EN
CALSCALE:GREGORIAN
METHOD:PUBLISH
X-WR-CALNAME:BC Forestry Outreach Center
X-ORIGINAL-URL:https://forestryoutreach.berea.edu
X-WR-CALDESC:Events for BC Forestry Outreach Center
REFRESH-INTERVAL;VALUE=DURATION:PT1H
X-Robots-Tag:noindex
X-PUBLISHED-TTL:PT1H
BEGIN:VTIMEZONE
TZID:America/Kentucky/Monticello
BEGIN:DAYLIGHT
TZOFFSETFROM:-0500
TZOFFSETTO:-0400
TZNAME:EDT
DTSTART:20250309T070000
END:DAYLIGHT
BEGIN:STANDARD
TZOFFSETFROM:-0400
TZOFFSETTO:-0500
TZNAME:EST
DTSTART:20251102T060000
END:STANDARD
BEGIN:DAYLIGHT
TZOFFSETFROM:-0500
TZOFFSETTO:-0400
TZNAME:EDT
DTSTART:20260308T070000
END:DAYLIGHT
BEGIN:STANDARD
TZOFFSETFROM:-0400
TZOFFSETTO:-0500
TZNAME:EST
DTSTART:20261101T060000
END:STANDARD
BEGIN:DAYLIGHT
TZOFFSETFROM:-0500
TZOFFSETTO:-0400
TZNAME:EDT
DTSTART:20270314T070000
END:DAYLIGHT
BEGIN:STANDARD
TZOFFSETFROM:-0400
TZOFFSETTO:-0500
TZNAME:EST
DTSTART:20271107T060000
END:STANDARD
END:VTIMEZONE
BEGIN:VEVENT
DTSTART;TZID=America/Kentucky/Monticello:20260211T180000
DTEND;TZID=America/Kentucky/Monticello:20260211T193000
DTSTAMP:20260423T191429
CREATED:20260123T153835Z
LAST-MODIFIED:20260123T153835Z
UID:6747-1770832800-1770838200@forestryoutreach.berea.edu
SUMMARY:Valentines to Nature Craft Night
DESCRIPTION:We will have crafting materials to make valentines\, love notes/letters to nature. Some light refreshments and warm beverages will be provided. \nYou’ll be welcome to keep them private\, or we can share them on our social media on Valentines Day! \nAll ages welcome.
URL:https://forestryoutreach.berea.edu/event/valentines-to-nature-craft-night/
LOCATION:Forestry Outreach Center\, 2047 Big Hill Rd.\, Berea\, KY\, 40403\, United States
CATEGORIES:Family Activities
END:VEVENT
BEGIN:VEVENT
DTSTART;TZID=America/Kentucky/Monticello:20260213T093000
DTEND;TZID=America/Kentucky/Monticello:20260216T100000
DTSTAMP:20260423T191429
CREATED:20260123T155017Z
LAST-MODIFIED:20260123T155059Z
UID:6748-1770975000-1771236000@forestryoutreach.berea.edu
SUMMARY:Great Backyard Bird Count
DESCRIPTION:Join in on a decades long global citizen science project. All it takes is 15 minutes a day from February 13th through February 16th. \nUsing the apps/websites Merlin and eBird\, you’ll record the types and number of birds you see during your observation windows on those days. You can observe in your own backyard\, go to a park\, or join us here in the lower forest at the Pinnacles! \nWe will meet at the Center at 9:15am to start observations shortly after. Come one day or all four–all observations help scientists worldwide study bird populations. \nLearn more about the GBBC on their website! \nAll ages are welcome. Using your own phone/app is optimal but not required\, you can just join in on the birdwatching!
URL:https://forestryoutreach.berea.edu/event/great-backyard-bird-count/
LOCATION:Forestry Outreach Center\, 2047 Big Hill Rd.\, Berea\, KY\, 40403\, United States
CATEGORIES:Family Activities
END:VEVENT
BEGIN:VEVENT
DTSTART;TZID=America/Kentucky/Monticello:20260214T100000
DTEND;TZID=America/Kentucky/Monticello:20260214T110000
DTSTAMP:20260423T191429
CREATED:20260123T155657Z
LAST-MODIFIED:20260123T155657Z
UID:6751-1771063200-1771066800@forestryoutreach.berea.edu
SUMMARY:Forest Meditations
DESCRIPTION:Come join us for Forest Meditations. This is an opportunity to connect with ourselves\, each other\, and the forest. All are welcome. Meet in the Forestry Outreach Center. We will be indoors until the weather is more pleasant!
URL:https://forestryoutreach.berea.edu/event/forest-meditations-41/
LOCATION:Forestry Outreach Center\, 2047 Big Hill Rd.\, Berea\, KY\, 40403\, United States
CATEGORIES:Nature R&R
END:VEVENT
BEGIN:VEVENT
DTSTART;TZID=America/Kentucky/Monticello:20260214T100000
DTEND;TZID=America/Kentucky/Monticello:20260214T120000
DTSTAMP:20260423T191429
CREATED:20260108T171105Z
LAST-MODIFIED:20260205T153306Z
UID:6738-1771063200-1771070400@forestryoutreach.berea.edu
SUMMARY:Red Oaks Forest School Art Club
DESCRIPTION:Join Red Oaks Forest School for their monthly art club at the Pinnacles! Free and open to all.
URL:https://forestryoutreach.berea.edu/event/red-oaks-forest-school-art-club-2/
LOCATION:Forestry Outreach Center\, 2047 Big Hill Rd.\, Berea\, KY\, 40403\, United States
CATEGORIES:Family Activities
END:VEVENT
BEGIN:VEVENT
DTSTART;TZID=America/Kentucky/Monticello:20260214T130000
DTEND;TZID=America/Kentucky/Monticello:20260214T153000
DTSTAMP:20260423T191429
CREATED:20260123T161853Z
LAST-MODIFIED:20260129T172713Z
UID:6757-1771074000-1771083000@forestryoutreach.berea.edu
SUMMARY:Group Hike at Pinnacle Knob
DESCRIPTION:Have you explored all of the Berea College Forest? Maybe you have but you’d like to learn more while you do? \n\n\nJoin us for a group hike every Saturday to experience the wonders the forest has to offer. \n\n\nPlease bring water and wear appropriate clothing for hiking. The destination will be decided by the group. All trails have uneven terrain and have at least moderate elevation gain. \n\n\nMeet at the Forestry Outreach Center. Check out maps and trail information here: https://forestryoutreach.berea.edu/trails/pinnacle-knob
URL:https://forestryoutreach.berea.edu/event/group-hike-at-pinnacle-knob/
LOCATION:Forestry Outreach Center\, 2047 Big Hill Rd.\, Berea\, KY\, 40403\, United States
CATEGORIES:Hikes
END:VEVENT
BEGIN:VEVENT
DTSTART;TZID=America/Kentucky/Monticello:20260215T140000
DTEND;TZID=America/Kentucky/Monticello:20260215T150000
DTSTAMP:20260423T191429
CREATED:20251205T141122Z
LAST-MODIFIED:20260128T175942Z
UID:6692-1771164000-1771167600@forestryoutreach.berea.edu
SUMMARY:Family Activity: Likin' Lichen Walk
DESCRIPTION:*rescheduled to Feb. 15th \nWhile many plants lay dormant for the winter\, there’s still a lot of green to be found in forest. \n\n\nWe’ll leave at 2:00pm to go on a slow-paced\, child led walk in the lower forest to learn about lichen and moss. We can collect some to bring back and examine under a microscope! \nThis is geared towards elementary ages. Look for our lichen walk geared towards upper ages and adults on February 17th!
URL:https://forestryoutreach.berea.edu/event/family-activity-2/
LOCATION:Forestry Outreach Center\, 2047 Big Hill Rd.\, Berea\, KY\, 40403\, United States
CATEGORIES:Family Activities
END:VEVENT
BEGIN:VEVENT
DTSTART;TZID=America/Kentucky/Monticello:20260217T140000
DTEND;TZID=America/Kentucky/Monticello:20260217T150000
DTSTAMP:20260423T191429
CREATED:20260123T155307Z
LAST-MODIFIED:20260129T182248Z
UID:6749-1771336800-1771340400@forestryoutreach.berea.edu
SUMMARY:Exploring Lichen Walk
DESCRIPTION:Join us for a walk with our ecologist to explore the lichen at the Pinnacles! \nThe walk will mostly be in the lower forest area\, but be prepared for uneven terrain and some elevation change. \nThis is geared towards teens and adults. \nCancelled in the case of bad weather.
URL:https://forestryoutreach.berea.edu/event/lichen-walk/
LOCATION:Forestry Outreach Center\, 2047 Big Hill Rd.\, Berea\, KY\, 40403\, United States
CATEGORIES:Hikes
END:VEVENT
BEGIN:VEVENT
DTSTART;TZID=America/Kentucky/Monticello:20260221T100000
DTEND;TZID=America/Kentucky/Monticello:20260221T110000
DTSTAMP:20260423T191429
CREATED:20260123T155736Z
LAST-MODIFIED:20260123T155736Z
UID:6752-1771668000-1771671600@forestryoutreach.berea.edu
SUMMARY:Forest Meditations
DESCRIPTION:Come join us for Forest Meditations. This is an opportunity to connect with ourselves\, each other\, and the forest. All are welcome. Meet in the Forestry Outreach Center. We will be indoors until the weather is more pleasant!
URL:https://forestryoutreach.berea.edu/event/forest-meditations-42/
LOCATION:Forestry Outreach Center\, 2047 Big Hill Rd.\, Berea\, KY\, 40403\, United States
CATEGORIES:Nature R&R
END:VEVENT
BEGIN:VEVENT
DTSTART;TZID=America/Kentucky/Monticello:20260221T130000
DTEND;TZID=America/Kentucky/Monticello:20260221T153000
DTSTAMP:20260423T191429
CREATED:20260123T161714Z
LAST-MODIFIED:20260129T172921Z
UID:6755-1771678800-1771687800@forestryoutreach.berea.edu
SUMMARY:Group Hike at the Pinnacles
DESCRIPTION:Have you explored all of the Berea College Forest? Maybe you have but you’d like to learn more while you do? \n\n\nJoin us for a group hike every Saturday to experience the wonders the forest has to offer. \n\n\nPlease bring water and wear appropriate clothing for hiking. The destination will be decided by the group. All trails have uneven terrain and have at least moderate elevation gain. \n\n\nMeet at the Forestry Outreach Center. Check out maps and trail information here: https://forestryoutreach.berea.edu/trails/the-pinnacles
URL:https://forestryoutreach.berea.edu/event/group-hike-at-the-pinnacles-3/
LOCATION:Forestry Outreach Center\, 2047 Big Hill Rd.\, Berea\, KY\, 40403\, United States
CATEGORIES:Hikes
END:VEVENT
BEGIN:VEVENT
DTSTART;TZID=America/Kentucky/Monticello:20260222T140000
DTEND;TZID=America/Kentucky/Monticello:20260222T150000
DTSTAMP:20260423T191429
CREATED:20260123T162148Z
LAST-MODIFIED:20260123T162148Z
UID:6758-1771768800-1771772400@forestryoutreach.berea.edu
SUMMARY:Exploring Amphibians Walk
DESCRIPTION:We will take a walk to our pond to explore and learn about the amphibians in the forest! \nMeet at the Center to leave at 2:00pm. \nAll ages welcome.
URL:https://forestryoutreach.berea.edu/event/exploring-amphibians-walk/
LOCATION:Forestry Outreach Center\, 2047 Big Hill Rd.\, Berea\, KY\, 40403\, United States
CATEGORIES:Family Activities
END:VEVENT
BEGIN:VEVENT
DTSTART;TZID=America/Kentucky/Monticello:20260228T100000
DTEND;TZID=America/Kentucky/Monticello:20260228T110000
DTSTAMP:20260423T191429
CREATED:20260123T155811Z
LAST-MODIFIED:20260123T155811Z
UID:6753-1772272800-1772276400@forestryoutreach.berea.edu
SUMMARY:Forest Meditations
DESCRIPTION:Come join us for Forest Meditations. This is an opportunity to connect with ourselves\, each other\, and the forest. All are welcome. Meet in the Forestry Outreach Center. We will be indoors until the weather is more pleasant!
URL:https://forestryoutreach.berea.edu/event/forest-meditations-43/
LOCATION:Forestry Outreach Center\, 2047 Big Hill Rd.\, Berea\, KY\, 40403\, United States
CATEGORIES:Nature R&R
END:VEVENT
END:VCALENDAR