BEGIN:VCALENDAR
VERSION:2.0
PRODID:-//BC Forestry Outreach Center - ECPv6.15.20//NONSGML v1.0//EN
CALSCALE:GREGORIAN
METHOD:PUBLISH
X-ORIGINAL-URL:https://forestryoutreach.berea.edu
X-WR-CALDESC:Events for BC Forestry Outreach Center
REFRESH-INTERVAL;VALUE=DURATION:PT1H
X-Robots-Tag:noindex
X-PUBLISHED-TTL:PT1H
BEGIN:VTIMEZONE
TZID:America/Kentucky/Monticello
BEGIN:DAYLIGHT
TZOFFSETFROM:-0500
TZOFFSETTO:-0400
TZNAME:EDT
DTSTART:20230312T070000
END:DAYLIGHT
BEGIN:STANDARD
TZOFFSETFROM:-0400
TZOFFSETTO:-0500
TZNAME:EST
DTSTART:20231105T060000
END:STANDARD
BEGIN:DAYLIGHT
TZOFFSETFROM:-0500
TZOFFSETTO:-0400
TZNAME:EDT
DTSTART:20240310T070000
END:DAYLIGHT
BEGIN:STANDARD
TZOFFSETFROM:-0400
TZOFFSETTO:-0500
TZNAME:EST
DTSTART:20241103T060000
END:STANDARD
BEGIN:DAYLIGHT
TZOFFSETFROM:-0500
TZOFFSETTO:-0400
TZNAME:EDT
DTSTART:20250309T070000
END:DAYLIGHT
BEGIN:STANDARD
TZOFFSETFROM:-0400
TZOFFSETTO:-0500
TZNAME:EST
DTSTART:20251102T060000
END:STANDARD
END:VTIMEZONE
BEGIN:VEVENT
DTSTART;TZID=America/Kentucky/Monticello:20240904T173000
DTEND;TZID=America/Kentucky/Monticello:20240904T193000
DTSTAMP:20260424T042802
CREATED:20240830T201527Z
LAST-MODIFIED:20240830T201527Z
UID:6073-1725471000-1725478200@forestryoutreach.berea.edu
SUMMARY:Nature R&R / Forest Bathing
DESCRIPTION:Come join us for a rejuvenating experience outdoors at Brushy Fork trails (off of Scaffold Cane Rd.) Nature R&R is a slow-paced\, relaxing and restorative forest experience. Please bring water and a portable seat or ground cover. \nPlease RSVP on Eventbrite! \nWe will meet at the Brushy Fork bridge lot at 5:30 pm. \nDirections and a map can be found here: https://forestryoutreach.berea.edu/trails/brushy-fork \nPlease contact us at 859-756-3315 with any questions. \nGive yourself the gift of a break and reconnect with the natural world.
URL:https://forestryoutreach.berea.edu/event/nature-rr-forest-bathing-4/
LOCATION:Brushy Fork\, Scaffold Cane Rd.\, Berea\, 40403
CATEGORIES:Nature R&R
END:VEVENT
BEGIN:VEVENT
DTSTART;TZID=America/Kentucky/Monticello:20240915T133000
DTEND;TZID=America/Kentucky/Monticello:20240915T150000
DTSTAMP:20260424T042802
CREATED:20240830T202622Z
LAST-MODIFIED:20240830T202751Z
UID:6075-1726407000-1726412400@forestryoutreach.berea.edu
SUMMARY:Family Activity: Fairy House Building
DESCRIPTION:We’ll use natural and compostable materials to build houses for our forest fairy friends before autumn comes! Materials will be provided\, but feel free to bring along any materials you find that you’d like to use or share. We can also use paper towel rolls\, fruit rinds\, and other household items that will return to the earth.
URL:https://forestryoutreach.berea.edu/event/fairy-house-building-2/
LOCATION:Forestry Outreach Center\, 2047 Big Hill Rd.\, Berea\, KY\, 40403\, United States
CATEGORIES:Family Activities
END:VEVENT
BEGIN:VEVENT
DTSTART;TZID=America/Kentucky/Monticello:20240922T160000
DTEND;TZID=America/Kentucky/Monticello:20240922T180000
DTSTAMP:20260424T042802
CREATED:20240830T202729Z
LAST-MODIFIED:20240830T202729Z
UID:6076-1727020800-1727028000@forestryoutreach.berea.edu
SUMMARY:Family Activity: Autumnal Equinox Party!
DESCRIPTION:We will celebrate the changing of the seasons with autumnal snacks\, books\, and crafts! A sunset hike will follow at 6:00pm for those who’d like to join.
URL:https://forestryoutreach.berea.edu/event/family-activity-autumnal-equinox-party/
LOCATION:Forestry Outreach Center\, 2047 Big Hill Rd.\, Berea\, KY\, 40403\, United States
CATEGORIES:Family Activities
END:VEVENT
BEGIN:VEVENT
DTSTART;TZID=America/Kentucky/Monticello:20240922T180000
DTEND;TZID=America/Kentucky/Monticello:20240922T200000
DTSTAMP:20260424T042802
CREATED:20240830T202949Z
LAST-MODIFIED:20240830T202949Z
UID:6077-1727028000-1727035200@forestryoutreach.berea.edu
SUMMARY:Sunset Hike on the Equinox
DESCRIPTION:We will hike up to the Bluegrass Overlook and enjoy the sunset! The hike is just over a mile one way but is uphill and steep in spots. Please bring a water bottle and dress for the weather and terrain! Bring a light for the hike down. \nView a map and description of the trail.
URL:https://forestryoutreach.berea.edu/event/sunset-hike-on-the-equinox/
LOCATION:Forestry Outreach Center\, 2047 Big Hill Rd.\, Berea\, KY\, 40403\, United States
CATEGORIES:Hikes
END:VEVENT
BEGIN:VEVENT
DTSTART;TZID=America/Kentucky/Monticello:20240926T173000
DTEND;TZID=America/Kentucky/Monticello:20240926T193000
DTSTAMP:20260424T042802
CREATED:20240830T202336Z
LAST-MODIFIED:20240830T202336Z
UID:6074-1727371800-1727379000@forestryoutreach.berea.edu
SUMMARY:Nature R&R / Forest Bathing
DESCRIPTION:Come join us for a rejuvenating experience outdoors at Anglin Falls (842 Anglin Falls Rd.). Nature R&R is a slow-paced\, relaxing and restorative forest experience. Please bring water and a portable seat or ground cover. \nPlease RSVP on Eventbrite! \nWe will meet at the parking lot at 5:30 pm. \nDirections and a map can be found here: https://forestryoutreach.berea.edu/trails/anglin-falls \nPlease contact us at 859-756-3315 with any questions. \nGive yourself the gift of a break and reconnect with the natural world.
URL:https://forestryoutreach.berea.edu/event/nature-rr-forest-bathing-5/
LOCATION:Anglin Falls\, 842 Anglin Falls Rd.\, KY\, United States
CATEGORIES:Nature R&R
END:VEVENT
BEGIN:VEVENT
DTSTART;TZID=America/Kentucky/Monticello:20240926T190000
DTEND;TZID=America/Kentucky/Monticello:20240926T203000
DTSTAMP:20260424T042802
CREATED:20240924T173902Z
LAST-MODIFIED:20240924T173902Z
UID:6095-1727377200-1727382600@forestryoutreach.berea.edu
SUMMARY:Pinnacles Astronomy Club
DESCRIPTION:Join the Pinnacles Astronomy Club for their meeting at Berea College’s Forestry Outreach Center this Thursday\, September 26 at 7:00PM. Jeff Hutton will present a short program about what it’s like to explore the night sky for yourself and for pure enjoyment. The title of the show is “One Perfect Night”. Weather permitting\, we’ll go outside afterwards for some constellation identification and telescope viewing. Everyone’s welcome to this free event. See you there!
URL:https://forestryoutreach.berea.edu/event/pinnacles-astronomy-club/
LOCATION:Forestry Outreach Center\, 2047 Big Hill Rd.\, Berea\, KY\, 40403\, United States
CATEGORIES:Family Activities
END:VEVENT
END:VCALENDAR