BEGIN:VCALENDAR
VERSION:2.0
PRODID:-//BC Forestry Outreach Center - ECPv6.15.20//NONSGML v1.0//EN
CALSCALE:GREGORIAN
METHOD:PUBLISH
X-WR-CALNAME:BC Forestry Outreach Center
X-ORIGINAL-URL:https://forestryoutreach.berea.edu
X-WR-CALDESC:Events for BC Forestry Outreach Center
REFRESH-INTERVAL;VALUE=DURATION:PT1H
X-Robots-Tag:noindex
X-PUBLISHED-TTL:PT1H
BEGIN:VTIMEZONE
TZID:America/New_York
BEGIN:DAYLIGHT
TZOFFSETFROM:-0500
TZOFFSETTO:-0400
TZNAME:EDT
DTSTART:20220313T070000
END:DAYLIGHT
BEGIN:STANDARD
TZOFFSETFROM:-0400
TZOFFSETTO:-0500
TZNAME:EST
DTSTART:20221106T060000
END:STANDARD
BEGIN:DAYLIGHT
TZOFFSETFROM:-0500
TZOFFSETTO:-0400
TZNAME:EDT
DTSTART:20230312T070000
END:DAYLIGHT
BEGIN:STANDARD
TZOFFSETFROM:-0400
TZOFFSETTO:-0500
TZNAME:EST
DTSTART:20231105T060000
END:STANDARD
BEGIN:DAYLIGHT
TZOFFSETFROM:-0500
TZOFFSETTO:-0400
TZNAME:EDT
DTSTART:20240310T070000
END:DAYLIGHT
BEGIN:STANDARD
TZOFFSETFROM:-0400
TZOFFSETTO:-0500
TZNAME:EST
DTSTART:20241103T060000
END:STANDARD
END:VTIMEZONE
BEGIN:VEVENT
DTSTART;TZID=America/New_York:20230401T130000
DTEND;TZID=America/New_York:20230401T153000
DTSTAMP:20260422T071033
CREATED:20230331T155022Z
LAST-MODIFIED:20230331T155022Z
UID:5264-1680354000-1680363000@forestryoutreach.berea.edu
SUMMARY:Anglin Falls Group Hike
DESCRIPTION:Special Saturday hike!\nMeet us at Anglin Falls (student shuttle will be available from Alumni Circle at 12:45 pm) at 1:00 pm for a group hike. This hike is very weather dependent\, the mud and the wind are important factors. Check our Facebook for updates. \nDirections to Anglin Falls: 842 Anglin Falls Rd. into a GPS. There is a gravel driveway with a small sign off of the road. More info here: https://forestryoutreach.berea.edu/trails/anglin-falls/ \nJoin us most Saturdays (weather dependent) for a group hike/walk!\nThe destinations are decided by the group(s). You are welcome to come by whether you’d like to take a leisurely stroll with others or go up to an overlook. Meet at the Forestry Outreach Center building where there is a water filling station and restrooms available.\nPlease wear appropriate clothing/footwear. Bring water\, snacks\, and any medications you might need (ex. epipen\, inhaler).  \nGroup Hikes\nSept-April: 1:00-3:30 pm\nMay-August: 10:00am-12:30 pm
URL:https://forestryoutreach.berea.edu/event/anglin-falls-group-hike/
LOCATION:Anglin Falls\, 842 Anglin Falls Rd.\, KY\, United States
CATEGORIES:Hikes
END:VEVENT
BEGIN:VEVENT
DTSTART;TZID=America/New_York:20230402T143000
DTEND;TZID=America/New_York:20230402T153000
DTSTAMP:20260422T071033
CREATED:20230330T135227Z
LAST-MODIFIED:20230330T144908Z
UID:5239-1680445800-1680449400@forestryoutreach.berea.edu
SUMMARY:Sunday Kid's Activities: Rock Painting
DESCRIPTION:Join us to decorate rocks with joyful words\, colorful patterns\, or things inspired by nature. We will hide them around the lower forest  and playscape area for folks to find and in preparation for a rock scavenger hunt on April 9th at 2:30 pm!\nWe will be outdoors\, cancelled in case of heavy rain.
URL:https://forestryoutreach.berea.edu/event/sunday-kids-activities-rock-painting/
LOCATION:Forestry Outreach Center\, 2047 Big Hill Rd.\, Berea\, KY\, 40403\, United States
CATEGORIES:Family Activities
END:VEVENT
BEGIN:VEVENT
DTSTART;TZID=America/New_York:20230408T130000
DTEND;TZID=America/New_York:20230408T153000
DTSTAMP:20260422T071033
CREATED:20230331T154553Z
LAST-MODIFIED:20230331T154553Z
UID:5261-1680958800-1680967800@forestryoutreach.berea.edu
SUMMARY:Group Hike/Walk @ the Pinnacles
DESCRIPTION:Join us most Saturdays (weather dependent) for a group hike/walk!\nThe destinations are decided by the group(s). You are welcome to come by whether you’d like to take a leisurely stroll with others or go up to an overlook. Meet at the Forestry Outreach Center building where there is a water filling station and restrooms available.\nPlease wear appropriate clothing/footwear. Bring water\, snacks\, and any medications you might need (ex. epipen\, inhaler).  \nGroup Hikes\nSept-April: 1:00-3:30 pm\nMay-August: 10:00am-12:30 pm
URL:https://forestryoutreach.berea.edu/event/group-hike-walk-the-pinnacles/
LOCATION:Forestry Outreach Center\, 2047 Big Hill Rd.\, Berea\, KY\, 40403\, United States
CATEGORIES:Hikes
END:VEVENT
BEGIN:VEVENT
DTSTART;TZID=America/New_York:20230409T143000
DTEND;TZID=America/New_York:20230409T153000
DTSTAMP:20260422T071033
CREATED:20230330T144851Z
LAST-MODIFIED:20230330T145148Z
UID:5251-1681050600-1681054200@forestryoutreach.berea.edu
SUMMARY:Sunday Kid's Activities -- Rock Scavenger Hunt
DESCRIPTION:Painted rocks will be hidden around the lower part of the forest and around the FOC building…we’ll go on a hunt to find as many as we can and keep our eyes open for what we might find along the way!\nCancelled in case of heavy rain.
URL:https://forestryoutreach.berea.edu/event/sunday-kids-activities-rock-scavenger-hunt/
LOCATION:Forestry Outreach Center\, 2047 Big Hill Rd.\, Berea\, KY\, 40403\, United States
CATEGORIES:Family Activities
END:VEVENT
BEGIN:VEVENT
DTSTART;TZID=America/New_York:20230412T173000
DTEND;TZID=America/New_York:20230412T193000
DTSTAMP:20260422T071033
CREATED:20230330T145432Z
LAST-MODIFIED:20230330T145744Z
UID:5254-1681320600-1681327800@forestryoutreach.berea.edu
SUMMARY:Nature Relaxation & Restoration
DESCRIPTION:Join soon-to-be-certified ANFT guide Wendy Warren as she guides a Nature and Forest Therapy experience designed to relax and restore equilibrium to body and mind. Dress for the weather\, as we will be outdoors and moving slowly. Bring a water bottle\, a snack\, and something to sit on if you’d like.\nMeet at the FOC\, leaving at 5:30 pm.\nCancelled in case of heavy rain and/or high winds.
URL:https://forestryoutreach.berea.edu/event/nature-relaxation-restoration/
LOCATION:Forestry Outreach Center\, 2047 Big Hill Rd.\, Berea\, KY\, 40403\, United States
END:VEVENT
BEGIN:VEVENT
DTSTART;TZID=America/New_York:20230415T130000
DTEND;TZID=America/New_York:20230415T153000
DTSTAMP:20260422T071033
CREATED:20230331T163303Z
LAST-MODIFIED:20230331T163303Z
UID:5266-1681563600-1681572600@forestryoutreach.berea.edu
SUMMARY:Group Hike/Walk @ the Pinnacles
DESCRIPTION:Join us most Saturdays (weather dependent) for a group hike/walk!\nThe destinations are decided by the group(s). You are welcome to come by whether you’d like to take a leisurely stroll with others or go up to an overlook. Meet at the Forestry Outreach Center building where there is a water filling station and restrooms available.\nPlease wear appropriate clothing/footwear. Bring water\, snacks\, and any medications you might need (ex. epipen\, inhaler).  \nGroup Hikes\nSept-April: 1:00-3:30 pm\nMay-August: 10:00am-12:30 pm
URL:https://forestryoutreach.berea.edu/event/group-hike-walk-the-pinnacles-2/
LOCATION:FOC\, 2047 Big Hill Rd KY\, Berea\, KY\, 40403\, United States
CATEGORIES:Hikes
END:VEVENT
BEGIN:VEVENT
DTSTART;TZID=America/New_York:20230416T143000
DTEND;TZID=America/New_York:20230416T153000
DTSTAMP:20260422T071033
CREATED:20230330T145130Z
LAST-MODIFIED:20230330T145130Z
UID:5252-1681655400-1681659000@forestryoutreach.berea.edu
SUMMARY:Sunday Kid's Activities -- Tadpoles in a Tizzy!
DESCRIPTION:Warmer weather means more metamorphosis! We’ll leave the FOC at 2:30 to go to the nearby pond and look for tadpoles\, frogs\, and salamanders! Wear waterproof shoes and clothes you don’t mind getting messy.\nCancelled in case of heavy rain.
URL:https://forestryoutreach.berea.edu/event/sunday-kids-activities-tadpoles-in-a-tizzy/
LOCATION:Forestry Outreach Center\, 2047 Big Hill Rd.\, Berea\, KY\, 40403\, United States
CATEGORIES:Family Activities
END:VEVENT
BEGIN:VEVENT
DTSTART;TZID=America/New_York:20230420T173000
DTEND;TZID=America/New_York:20230420T183000
DTSTAMP:20260422T071033
CREATED:20230330T145715Z
LAST-MODIFIED:20230330T145715Z
UID:5255-1682011800-1682015400@forestryoutreach.berea.edu
SUMMARY:Wildflower Walk
DESCRIPTION:Join our ecologist\, John\, on a walk through the forest to find and identify wildflowers! Spring ephemeral wildflowers are some of the most interesting and beautiful things in our forest\, but see them while you can…they aren’t around for long!\nMeet at the FOC\, leaving at 5:30 pm.\nCancelled in case of heavy rain and/or high winds.
URL:https://forestryoutreach.berea.edu/event/wildflower-walk/
LOCATION:Forestry Outreach Center\, 2047 Big Hill Rd.\, Berea\, KY\, 40403\, United States
END:VEVENT
BEGIN:VEVENT
DTSTART;TZID=America/New_York:20230421T110000
DTEND;TZID=America/New_York:20230423T153000
DTSTAMP:20260422T071033
CREATED:20230317T155902Z
LAST-MODIFIED:20230319T145612Z
UID:5235-1682074800-1682263800@forestryoutreach.berea.edu
SUMMARY:Earth Day 2023
DESCRIPTION:A multi-day campus-wide celebration of Earth Day with Student Life and the Office of Sustainability!\nSustain our Earth\, sustain our communities\, sustain ourselves. \n**stay tuned for a list of activities**
URL:https://forestryoutreach.berea.edu/event/earthday2023/
LOCATION:Forestry Outreach Center\, 2047 Big Hill Rd.\, Berea\, KY\, 40403\, United States
END:VEVENT
BEGIN:VEVENT
DTSTART;TZID=America/New_York:20230422T130000
DTEND;TZID=America/New_York:20230422T153000
DTSTAMP:20260422T071033
CREATED:20230106T155956Z
LAST-MODIFIED:20230331T155050Z
UID:5163-1682168400-1682177400@forestryoutreach.berea.edu
SUMMARY:Group Hike/Walk @ the Pinnacles
DESCRIPTION:Join us most Saturdays (weather dependent) for a group hike/walk!\nThe destinations are decided by the group(s). You are welcome to come by whether you’d like to take a leisurely stroll with others or go up to an overlook. Meet at the Forestry Outreach Center building where there is a water filling station and restrooms available.\nPlease wear appropriate clothing/footwear. Bring water\, snacks\, and any medications you might need (ex. epipen\, inhaler).  \nGroup Hikes\nSept-April: 1:00-3:30 pm\nMay-August: 10:00am-12:30 pm
URL:https://forestryoutreach.berea.edu/event/group-hike-walk-12/
LOCATION:FOC\, 2047 Big Hill Rd KY\, Berea\, KY\, 40403\, United States
CATEGORIES:Hikes
END:VEVENT
BEGIN:VEVENT
DTSTART;TZID=America/New_York:20230427T190000
DTEND;TZID=America/New_York:20230427T203000
DTSTAMP:20260422T071033
CREATED:20230330T145934Z
LAST-MODIFIED:20230331T172255Z
UID:5256-1682622000-1682627400@forestryoutreach.berea.edu
SUMMARY:Star Party!
DESCRIPTION:Join FOC volunteer and astronomer Jeff Hutton to learn about the sun’s motion over the Pinnacles. We’ll learn why sundials work and what an “analemma” is. Then\, if the evening is clear\, we’ll head outside to gaze through telescopes. Feel free to bring your own and Jeff/fellow astronomers can answer questions you may have!\n*Stargazing is weather dependent.*\nOpen to all ages.\nCheck out Jeff’s monthly “Skies Over the Pinnacles” articles on our website here: https://forestryoutreach.berea.edu/skies-over-the-pinnacles/
URL:https://forestryoutreach.berea.edu/event/star-party-4/
LOCATION:Forestry Outreach Center\, 2047 Big Hill Rd.\, Berea\, KY\, 40403\, United States
CATEGORIES:Family Activities
END:VEVENT
BEGIN:VEVENT
DTSTART;TZID=America/New_York:20230429T103000
DTEND;TZID=America/New_York:20230429T153000
DTSTAMP:20260422T071033
CREATED:20230331T155644Z
LAST-MODIFIED:20230331T155644Z
UID:5265-1682764200-1682782200@forestryoutreach.berea.edu
SUMMARY:Kelly's Trail Group Hike @ the Pinnacles
DESCRIPTION:Special Saturday group hike!\nIf you’re up for a challenge\, join us to hike Kelly’s Trail. It is ~6 miles round trip with many steep changes in elevation. Please wear appropriate clothing and bring any medications you may need (inhaler\, epipen\, etc.) as well as water and snacks. We will meet at the FOC at 10:30 am and should be back around 3:30 pm. A student shuttle will leave Alumni Circle at 10:15 am!  \nPlease join us on another upcoming Saturday hike if you are interested in something less challenging!  \nJoin us most Saturdays (weather dependent) for a group hike/walk!\nThe destinations are decided by the group(s). You are welcome to come by whether you’d like to take a leisurely stroll with others or go up to an overlook. Meet at the Forestry Outreach Center building where there is a water filling station and restrooms available.\nPlease wear appropriate clothing/footwear. Bring water\, snacks\, and any medications you might need (ex. epipen\, inhaler). \nGroup Hikes\nSept-April: 1:00-3:30 pm\nMay-August: 10:00am-12:30 pm
URL:https://forestryoutreach.berea.edu/event/kellys-trail-group-hike-the-pinnacles/
LOCATION:Forestry Outreach Center\, 2047 Big Hill Rd.\, Berea\, KY\, 40403\, United States
CATEGORIES:Hikes
END:VEVENT
END:VCALENDAR