BEGIN:VCALENDAR
VERSION:2.0
PRODID:-//BC Forestry Outreach Center - ECPv6.15.20//NONSGML v1.0//EN
CALSCALE:GREGORIAN
METHOD:PUBLISH
X-ORIGINAL-URL:https://forestryoutreach.berea.edu
X-WR-CALDESC:Events for BC Forestry Outreach Center
REFRESH-INTERVAL;VALUE=DURATION:PT1H
X-Robots-Tag:noindex
X-PUBLISHED-TTL:PT1H
BEGIN:VTIMEZONE
TZID:America/Kentucky/Monticello
BEGIN:DAYLIGHT
TZOFFSETFROM:-0500
TZOFFSETTO:-0400
TZNAME:EDT
DTSTART:20250309T070000
END:DAYLIGHT
BEGIN:STANDARD
TZOFFSETFROM:-0400
TZOFFSETTO:-0500
TZNAME:EST
DTSTART:20251102T060000
END:STANDARD
BEGIN:DAYLIGHT
TZOFFSETFROM:-0500
TZOFFSETTO:-0400
TZNAME:EDT
DTSTART:20260308T070000
END:DAYLIGHT
BEGIN:STANDARD
TZOFFSETFROM:-0400
TZOFFSETTO:-0500
TZNAME:EST
DTSTART:20261101T060000
END:STANDARD
BEGIN:DAYLIGHT
TZOFFSETFROM:-0500
TZOFFSETTO:-0400
TZNAME:EDT
DTSTART:20270314T070000
END:DAYLIGHT
BEGIN:STANDARD
TZOFFSETFROM:-0400
TZOFFSETTO:-0500
TZNAME:EST
DTSTART:20271107T060000
END:STANDARD
END:VTIMEZONE
BEGIN:VEVENT
DTSTART;TZID=America/Kentucky/Monticello:20260314T100000
DTEND;TZID=America/Kentucky/Monticello:20260314T110000
DTSTAMP:20260419T151819
CREATED:20260215T195937Z
LAST-MODIFIED:20260215T195937Z
UID:6799-1773482400-1773486000@forestryoutreach.berea.edu
SUMMARY:Forest Meditations
DESCRIPTION:Come join us for Forest Meditations. This is an opportunity to connect with ourselves\, each other\, and the forest. All are welcome. Meet in the Forestry Outreach Center. We will be indoors until the weather is more pleasant!
URL:https://forestryoutreach.berea.edu/event/forest-meditations-40/
LOCATION:Forestry Outreach Center\, 2047 Big Hill Rd.\, Berea\, KY\, 40403\, United States
CATEGORIES:Nature R&R
END:VEVENT
END:VCALENDAR