BEGIN:VCALENDAR
VERSION:2.0
PRODID:-//BC Forestry Outreach Center - ECPv6.15.20//NONSGML v1.0//EN
CALSCALE:GREGORIAN
METHOD:PUBLISH
X-WR-CALNAME:BC Forestry Outreach Center
X-ORIGINAL-URL:https://forestryoutreach.berea.edu
X-WR-CALDESC:Events for BC Forestry Outreach Center
REFRESH-INTERVAL;VALUE=DURATION:PT1H
X-Robots-Tag:noindex
X-PUBLISHED-TTL:PT1H
BEGIN:VTIMEZONE
TZID:America/Kentucky/Monticello
BEGIN:DAYLIGHT
TZOFFSETFROM:-0500
TZOFFSETTO:-0400
TZNAME:EDT
DTSTART:20250309T070000
END:DAYLIGHT
BEGIN:STANDARD
TZOFFSETFROM:-0400
TZOFFSETTO:-0500
TZNAME:EST
DTSTART:20251102T060000
END:STANDARD
BEGIN:DAYLIGHT
TZOFFSETFROM:-0500
TZOFFSETTO:-0400
TZNAME:EDT
DTSTART:20260308T070000
END:DAYLIGHT
BEGIN:STANDARD
TZOFFSETFROM:-0400
TZOFFSETTO:-0500
TZNAME:EST
DTSTART:20261101T060000
END:STANDARD
BEGIN:DAYLIGHT
TZOFFSETFROM:-0500
TZOFFSETTO:-0400
TZNAME:EDT
DTSTART:20270314T070000
END:DAYLIGHT
BEGIN:STANDARD
TZOFFSETFROM:-0400
TZOFFSETTO:-0500
TZNAME:EST
DTSTART:20271107T060000
END:STANDARD
END:VTIMEZONE
BEGIN:VEVENT
DTSTART;TZID=America/Kentucky/Monticello:20260419T140000
DTEND;TZID=America/Kentucky/Monticello:20260419T150000
DTSTAMP:20260423T043054
CREATED:20260401T154432Z
LAST-MODIFIED:20260401T154432Z
UID:6853-1776607200-1776610800@forestryoutreach.berea.edu
SUMMARY:Cyanotype Printmaking
DESCRIPTION:The Berea College Printmaking Club will be here to share the art of cyanotype printmaking–treating paper or fabric with certain chemicals that change color in the sun! You can make all sorts of beautiful designs using natural materials like leaves. All materials will be provided. \n\n\nAll ages welcome. \nCancelled in case of rain/extreme clouds.
URL:https://forestryoutreach.berea.edu/event/cyanotype-printmaking/
LOCATION:Forestry Outreach Center\, 2047 Big Hill Rd.\, Berea\, KY\, 40403\, United States
END:VEVENT
END:VCALENDAR