BEGIN:VCALENDAR
VERSION:2.0
PRODID:-//BC Forestry Outreach Center - ECPv6.15.20//NONSGML v1.0//EN
CALSCALE:GREGORIAN
METHOD:PUBLISH
X-ORIGINAL-URL:https://forestryoutreach.berea.edu
X-WR-CALDESC:Events for BC Forestry Outreach Center
REFRESH-INTERVAL;VALUE=DURATION:PT1H
X-Robots-Tag:noindex
X-PUBLISHED-TTL:PT1H
BEGIN:VTIMEZONE
TZID:America/Kentucky/Monticello
BEGIN:DAYLIGHT
TZOFFSETFROM:-0500
TZOFFSETTO:-0400
TZNAME:EDT
DTSTART:20250309T070000
END:DAYLIGHT
BEGIN:STANDARD
TZOFFSETFROM:-0400
TZOFFSETTO:-0500
TZNAME:EST
DTSTART:20251102T060000
END:STANDARD
BEGIN:DAYLIGHT
TZOFFSETFROM:-0500
TZOFFSETTO:-0400
TZNAME:EDT
DTSTART:20260308T070000
END:DAYLIGHT
BEGIN:STANDARD
TZOFFSETFROM:-0400
TZOFFSETTO:-0500
TZNAME:EST
DTSTART:20261101T060000
END:STANDARD
BEGIN:DAYLIGHT
TZOFFSETFROM:-0500
TZOFFSETTO:-0400
TZNAME:EDT
DTSTART:20270314T070000
END:DAYLIGHT
BEGIN:STANDARD
TZOFFSETFROM:-0400
TZOFFSETTO:-0500
TZNAME:EST
DTSTART:20271107T060000
END:STANDARD
END:VTIMEZONE
BEGIN:VEVENT
DTSTART;TZID=America/Kentucky/Monticello:20260329T140000
DTEND;TZID=America/Kentucky/Monticello:20260329T160000
DTSTAMP:20260425T093116
CREATED:20260213T163733Z
LAST-MODIFIED:20260320T163950Z
UID:6795-1774792800-1774800000@forestryoutreach.berea.edu
SUMMARY:Rat Appreciation Day
DESCRIPTION:Every being on Earth has a place and a right to life. We are all connected. Join us and the Art in Action team for Rat Appreciation Day on March 29th\, 2:00-4:00pm at the Hafer-Gibson building. This is a celebration for World Rat Day (April 4th) as well as to acknowledge and shift perspective on critters that have a bad reputation. There’s something for all ages\, and the event is FREE. \nActivities include: \n\n\n-Rat themed crafts \n\n\n-Giant cardboard mazes \n\n\n-Scavenger hunt \n\n\n-Snake meet & greet \n\n\n-“Pest” control info \n\n\n-Short presentations on native rats and anthrozoology (the relationship between humans and animals) at 2:45pm \n-Rat themed trivia 3:15pm \n-Rat Fight Robotics Club\, their rat mascot & their aluminum can crushing robot! \n\nRat Fight is an FRC (FIRST Robotics Competition) team dedicated to teaching robotics to high school students in the Madison County area. Berea College students and industry professionals mentor these students\, guiding them through the engineering\, programming\, and teamwork skills needed to succeed in competitive robotics. Each year\, teams receive a brand-new game challenge and have just eight weeks to design\, build\, and program a robot from scratch. An example of this can be seen in the video below\, showcasing the 2025 FRC game\, Reefscape:📺 Video: Reefscape 2025\n\n  \n  \n\n\n 
URL:https://forestryoutreach.berea.edu/event/rat-appreciation-day/
LOCATION:KY
CATEGORIES:Family Activities
END:VEVENT
END:VCALENDAR