BEGIN:VCALENDAR
VERSION:2.0
PRODID:-//BC Forestry Outreach Center - ECPv6.15.20//NONSGML v1.0//EN
CALSCALE:GREGORIAN
METHOD:PUBLISH
X-ORIGINAL-URL:https://forestryoutreach.berea.edu
X-WR-CALDESC:Events for BC Forestry Outreach Center
REFRESH-INTERVAL;VALUE=DURATION:PT1H
X-Robots-Tag:noindex
X-PUBLISHED-TTL:PT1H
BEGIN:VTIMEZONE
TZID:America/New_York
BEGIN:DAYLIGHT
TZOFFSETFROM:-0500
TZOFFSETTO:-0400
TZNAME:EDT
DTSTART:20220313T070000
END:DAYLIGHT
BEGIN:STANDARD
TZOFFSETFROM:-0400
TZOFFSETTO:-0500
TZNAME:EST
DTSTART:20221106T060000
END:STANDARD
BEGIN:DAYLIGHT
TZOFFSETFROM:-0500
TZOFFSETTO:-0400
TZNAME:EDT
DTSTART:20230312T070000
END:DAYLIGHT
BEGIN:STANDARD
TZOFFSETFROM:-0400
TZOFFSETTO:-0500
TZNAME:EST
DTSTART:20231105T060000
END:STANDARD
BEGIN:DAYLIGHT
TZOFFSETFROM:-0500
TZOFFSETTO:-0400
TZNAME:EDT
DTSTART:20240310T070000
END:DAYLIGHT
BEGIN:STANDARD
TZOFFSETFROM:-0400
TZOFFSETTO:-0500
TZNAME:EST
DTSTART:20241103T060000
END:STANDARD
END:VTIMEZONE
BEGIN:VEVENT
DTSTART;TZID=America/New_York:20230520T100000
DTEND;TZID=America/New_York:20230520T123000
DTSTAMP:20260419T104815
CREATED:20230430T180053Z
LAST-MODIFIED:20230430T180053Z
UID:5316-1684576800-1684585800@forestryoutreach.berea.edu
SUMMARY:Group Hike/Walk @ the Pinnacles
DESCRIPTION:Join us most Saturdays (weather dependent) for a group hike/walk!\nThe destinations are decided by the group(s). You are welcome to come by whether you’d like to take a leisurely stroll with others or go up to an overlook. Meet at the Forestry Outreach Center building where there is a water filling station and restrooms available.\nPlease wear appropriate clothing/footwear. Bring water\, snacks\, and any medications you might need (ex. epipen\, inhaler).  \nGroup Hikes\nMay-August: 10:00am-12:30 pm\nSept-April: 1:00-3:30 pm
URL:https://forestryoutreach.berea.edu/event/group-hike-walk-the-pinnacles-5/
LOCATION:Forestry Outreach Center\, 2047 Big Hill Rd.\, Berea\, KY\, 40403\, United States
CATEGORIES:Hikes
END:VEVENT
END:VCALENDAR